BEGIN:VCALENDAR
VERSION:2.0
PRODID:-//Marcus JCC of Atlanta (MJCCA) in Dunwoody, GA - ECPv6.15.15//NONSGML v1.0//EN
CALSCALE:GREGORIAN
METHOD:PUBLISH
X-WR-CALNAME:Marcus JCC of Atlanta (MJCCA) in Dunwoody, GA
X-ORIGINAL-URL:https://www.atlantajcc.org
X-WR-CALDESC:Events for Marcus JCC of Atlanta (MJCCA) in Dunwoody, GA
REFRESH-INTERVAL;VALUE=DURATION:PT1H
X-Robots-Tag:noindex
X-PUBLISHED-TTL:PT1H
BEGIN:VTIMEZONE
TZID:America/New_York
BEGIN:DAYLIGHT
TZOFFSETFROM:-0500
TZOFFSETTO:-0400
TZNAME:EDT
DTSTART:20250309T070000
END:DAYLIGHT
BEGIN:STANDARD
TZOFFSETFROM:-0400
TZOFFSETTO:-0500
TZNAME:EST
DTSTART:20251102T060000
END:STANDARD
BEGIN:DAYLIGHT
TZOFFSETFROM:-0500
TZOFFSETTO:-0400
TZNAME:EDT
DTSTART:20260308T070000
END:DAYLIGHT
BEGIN:STANDARD
TZOFFSETFROM:-0400
TZOFFSETTO:-0500
TZNAME:EST
DTSTART:20261101T060000
END:STANDARD
BEGIN:DAYLIGHT
TZOFFSETFROM:-0500
TZOFFSETTO:-0400
TZNAME:EDT
DTSTART:20270314T070000
END:DAYLIGHT
BEGIN:STANDARD
TZOFFSETFROM:-0400
TZOFFSETTO:-0500
TZNAME:EST
DTSTART:20271107T060000
END:STANDARD
END:VTIMEZONE
BEGIN:VEVENT
DTSTART;TZID=America/New_York:20261206T171500
DTEND;TZID=America/New_York:20261206T173000
DTSTAMP:20260422T061035
CREATED:20260330T162441Z
LAST-MODIFIED:20260422T053833Z
UID:10038867-1796577300-1796578200@www.atlantajcc.org
SUMMARY:Hanukkah Candle Lighting
DESCRIPTION:Gather with your MJCCA community to celebrate the Festival of Lights with a joyful communal candle lighting at the Heyman Stage in the Halpern Plaza courtyard. Together we’ll light the hanukkiah\, sing Hanukkah songs\, and share the blessings as we welcome the warmth\, hope\, and joy of the holiday.  \nWhether you come every year or are joining for the first time\, this meaningful gathering is a beautiful way to celebrate tradition\, connect with community\, and bring the light of Hanukkah into our shared space.
URL:https://www.atlantajcc.org/event/hanukkah-candle-lighting/2026-12-06/
LOCATION:MJCCA Zaban Park\, 5342 Tilly Mill Rd.\, Dunwoody\, Georgia\, 30338\, United States
CATEGORIES:Class
END:VEVENT
BEGIN:VEVENT
DTSTART;TZID=America/New_York:20261207T171500
DTEND;TZID=America/New_York:20261207T173000
DTSTAMP:20260422T061035
CREATED:20260330T162441Z
LAST-MODIFIED:20260422T053833Z
UID:10038868-1796663700-1796664600@www.atlantajcc.org
SUMMARY:Hanukkah Candle Lighting
DESCRIPTION:Gather with your MJCCA community to celebrate the Festival of Lights with a joyful communal candle lighting at the Heyman Stage in the Halpern Plaza courtyard. Together we’ll light the hanukkiah\, sing Hanukkah songs\, and share the blessings as we welcome the warmth\, hope\, and joy of the holiday.  \nWhether you come every year or are joining for the first time\, this meaningful gathering is a beautiful way to celebrate tradition\, connect with community\, and bring the light of Hanukkah into our shared space.
URL:https://www.atlantajcc.org/event/hanukkah-candle-lighting/2026-12-07/
LOCATION:MJCCA Zaban Park\, 5342 Tilly Mill Rd.\, Dunwoody\, Georgia\, 30338\, United States
CATEGORIES:Class
END:VEVENT
BEGIN:VEVENT
DTSTART;TZID=America/New_York:20261208T171500
DTEND;TZID=America/New_York:20261208T173000
DTSTAMP:20260422T061035
CREATED:20260330T162441Z
LAST-MODIFIED:20260422T053833Z
UID:10038869-1796750100-1796751000@www.atlantajcc.org
SUMMARY:Hanukkah Candle Lighting
DESCRIPTION:Gather with your MJCCA community to celebrate the Festival of Lights with a joyful communal candle lighting at the Heyman Stage in the Halpern Plaza courtyard. Together we’ll light the hanukkiah\, sing Hanukkah songs\, and share the blessings as we welcome the warmth\, hope\, and joy of the holiday.  \nWhether you come every year or are joining for the first time\, this meaningful gathering is a beautiful way to celebrate tradition\, connect with community\, and bring the light of Hanukkah into our shared space.
URL:https://www.atlantajcc.org/event/hanukkah-candle-lighting/2026-12-08/
LOCATION:MJCCA Zaban Park\, 5342 Tilly Mill Rd.\, Dunwoody\, Georgia\, 30338\, United States
CATEGORIES:Class
END:VEVENT
BEGIN:VEVENT
DTSTART;TZID=America/New_York:20261209T171500
DTEND;TZID=America/New_York:20261209T173000
DTSTAMP:20260422T061035
CREATED:20260330T162441Z
LAST-MODIFIED:20260422T053833Z
UID:10038870-1796836500-1796837400@www.atlantajcc.org
SUMMARY:Hanukkah Candle Lighting
DESCRIPTION:Gather with your MJCCA community to celebrate the Festival of Lights with a joyful communal candle lighting at the Heyman Stage in the Halpern Plaza courtyard. Together we’ll light the hanukkiah\, sing Hanukkah songs\, and share the blessings as we welcome the warmth\, hope\, and joy of the holiday.  \nWhether you come every year or are joining for the first time\, this meaningful gathering is a beautiful way to celebrate tradition\, connect with community\, and bring the light of Hanukkah into our shared space.
URL:https://www.atlantajcc.org/event/hanukkah-candle-lighting/2026-12-09/
LOCATION:MJCCA Zaban Park\, 5342 Tilly Mill Rd.\, Dunwoody\, Georgia\, 30338\, United States
CATEGORIES:Class
END:VEVENT
BEGIN:VEVENT
DTSTART;TZID=America/New_York:20261210T171500
DTEND;TZID=America/New_York:20261210T173000
DTSTAMP:20260422T061035
CREATED:20260330T162441Z
LAST-MODIFIED:20260422T053833Z
UID:10239688-1796922900-1796923800@www.atlantajcc.org
SUMMARY:Hanukkah Candle Lighting
DESCRIPTION:Gather with your MJCCA community to celebrate the Festival of Lights with a joyful communal candle lighting at the Heyman Stage in the Halpern Plaza courtyard. Together we’ll light the hanukkiah\, sing Hanukkah songs\, and share the blessings as we welcome the warmth\, hope\, and joy of the holiday.  \nWhether you come every year or are joining for the first time\, this meaningful gathering is a beautiful way to celebrate tradition\, connect with community\, and bring the light of Hanukkah into our shared space.
URL:https://www.atlantajcc.org/event/hanukkah-candle-lighting/2026-12-10/
LOCATION:MJCCA Zaban Park\, 5342 Tilly Mill Rd.\, Dunwoody\, Georgia\, 30338\, United States
CATEGORIES:Class
END:VEVENT
END:VCALENDAR